BEGIN:VCALENDAR
VERSION:2.0
PRODID:-//OISíN GAA Manchester - ECPv6.15.20//NONSGML v1.0//EN
CALSCALE:GREGORIAN
METHOD:PUBLISH
X-WR-CALNAME:OISíN GAA Manchester
X-ORIGINAL-URL:https://oisinclgmanchester.com
X-WR-CALDESC:Events for OISíN GAA Manchester
REFRESH-INTERVAL;VALUE=DURATION:PT1H
X-Robots-Tag:noindex
X-PUBLISHED-TTL:PT1H
BEGIN:VTIMEZONE
TZID:Europe/Dublin
BEGIN:STANDARD
TZOFFSETFROM:+0000
TZOFFSETTO:+0100
TZNAME:IST
DTSTART:20250330T010000
END:STANDARD
BEGIN:DAYLIGHT
TZOFFSETFROM:+0100
TZOFFSETTO:+0000
TZNAME:GMT
DTSTART:20251026T010000
END:DAYLIGHT
BEGIN:STANDARD
TZOFFSETFROM:+0000
TZOFFSETTO:+0100
TZNAME:IST
DTSTART:20260329T010000
END:STANDARD
BEGIN:DAYLIGHT
TZOFFSETFROM:+0100
TZOFFSETTO:+0000
TZNAME:GMT
DTSTART:20261025T010000
END:DAYLIGHT
BEGIN:STANDARD
TZOFFSETFROM:+0000
TZOFFSETTO:+0100
TZNAME:IST
DTSTART:20270328T010000
END:STANDARD
BEGIN:DAYLIGHT
TZOFFSETFROM:+0100
TZOFFSETTO:+0000
TZNAME:GMT
DTSTART:20271031T010000
END:DAYLIGHT
END:VTIMEZONE
BEGIN:VEVENT
DTSTART;TZID=Europe/Dublin:20260301T103000
DTEND;TZID=Europe/Dublin:20260301T163000
DTSTAMP:20260419T145049
CREATED:20260123T222210Z
LAST-MODIFIED:20260124T151113Z
UID:387-1772361000-1772382600@oisinclgmanchester.com
SUMMARY:Annual LGFA 7s
DESCRIPTION:
URL:https://oisinclgmanchester.com/event/annual-lgfa-7s-old-bedians/
LOCATION:Old Bedians
END:VEVENT
BEGIN:VEVENT
DTSTART;TZID=Europe/Dublin:20260302T200000
DTEND;TZID=Europe/Dublin:20260302T213000
DTSTAMP:20260419T145049
CREATED:20260223T173811Z
LAST-MODIFIED:20260223T213853Z
UID:775-1772481600-1772487000@oisinclgmanchester.com
SUMMARY:Monthly Club Meeting
DESCRIPTION:
URL:https://oisinclgmanchester.com/event/monthly-club-meeting-2/
LOCATION:Old Bedians
END:VEVENT
BEGIN:VEVENT
DTSTART;TZID=Europe/Dublin:20260309T200000
DTEND;TZID=Europe/Dublin:20260309T213000
DTSTAMP:20260419T145049
CREATED:20260223T214009Z
LAST-MODIFIED:20260311T100604Z
UID:779-1773086400-1773091800@oisinclgmanchester.com
SUMMARY:County Board (GAA)
DESCRIPTION:
URL:https://oisinclgmanchester.com/event/county-board-gaa-2/
LOCATION:Teams
END:VEVENT
BEGIN:VEVENT
DTSTART;TZID=Europe/Dublin:20260315T110000
DTEND;TZID=Europe/Dublin:20260315T170000
DTSTAMP:20260419T145049
CREATED:20260127T105849Z
LAST-MODIFIED:20260129T093508Z
UID:610-1773572400-1773594000@oisinclgmanchester.com
SUMMARY:St Patrick's Day Parade
DESCRIPTION:
URL:https://oisinclgmanchester.com/event/st-patricks-day-parade/
LOCATION:Irish World Heritage Centre
END:VEVENT
BEGIN:VEVENT
DTSTART;TZID=Europe/Dublin:20260316T200000
DTEND;TZID=Europe/Dublin:20260316T213000
DTSTAMP:20260419T145049
CREATED:20260319T091656Z
LAST-MODIFIED:20260319T091656Z
UID:900-1773691200-1773696600@oisinclgmanchester.com
SUMMARY:Lancashire CCC
DESCRIPTION:
URL:https://oisinclgmanchester.com/event/lancashire-ccc/
LOCATION:Teams
END:VEVENT
BEGIN:VEVENT
DTSTART;TZID=Europe/Dublin:20260321T143000
DTEND;TZID=Europe/Dublin:20260321T153000
DTSTAMP:20260419T145049
CREATED:20260223T214203Z
LAST-MODIFIED:20260224T180252Z
UID:781-1774103400-1774107000@oisinclgmanchester.com
SUMMARY:U13 v St Lawrences
DESCRIPTION:
URL:https://oisinclgmanchester.com/event/u13-v-st-lawrences/
LOCATION:Old Bedians
END:VEVENT
BEGIN:VEVENT
DTSTART;TZID=Europe/Dublin:20260326T180000
DTEND;TZID=Europe/Dublin:20260326T210000
DTSTAMP:20260419T145049
CREATED:20260319T091755Z
LAST-MODIFIED:20260319T091755Z
UID:902-1774548000-1774558800@oisinclgmanchester.com
SUMMARY:Senior Jersey Launch Night
DESCRIPTION:
URL:https://oisinclgmanchester.com/event/senior-jersey-launch-night/
LOCATION:Kennedys\, Didsbury
END:VEVENT
BEGIN:VEVENT
DTSTART;TZID=Europe/Dublin:20260328T100000
DTEND;TZID=Europe/Dublin:20260328T120000
DTSTAMP:20260419T145049
CREATED:20260223T214312Z
LAST-MODIFIED:20260223T214312Z
UID:783-1774692000-1774699200@oisinclgmanchester.com
SUMMARY:U11 Blitz (Liverpool)
DESCRIPTION:
URL:https://oisinclgmanchester.com/event/u11-blitz-liverpool/
LOCATION:Greenbank
END:VEVENT
BEGIN:VEVENT
DTSTART;TZID=Europe/Dublin:20260328T120000
DTEND;TZID=Europe/Dublin:20260328T150000
DTSTAMP:20260419T145049
CREATED:20260330T153526Z
LAST-MODIFIED:20260330T155252Z
UID:914-1774699200-1774710000@oisinclgmanchester.com
SUMMARY:LGFA Pennine League R1
DESCRIPTION:The first round of the Pennine League kicks off in Sheffield. \nOisín’s beat St Vincent’s\, Sheffield and lost to St Lawrence’s\, Manchester in the group stages of the tournament. \nThe girls were promoted to the final but were defeated by John Mitchels resulting in a second place finish. \nThe next round of the Pennine League is on Saturday 23rd May at Old Bedians.
URL:https://oisinclgmanchester.com/event/lgfa-pennine-league-r1/
END:VEVENT
BEGIN:VEVENT
DTSTART;TZID=Europe/Dublin:20260413T200000
DTEND;TZID=Europe/Dublin:20260413T213000
DTSTAMP:20260419T145049
CREATED:20260305T170717Z
LAST-MODIFIED:20260305T170717Z
UID:884-1776110400-1776115800@oisinclgmanchester.com
SUMMARY:Monthly Club Meeting
DESCRIPTION:
URL:https://oisinclgmanchester.com/event/monthly-club-meeting-3/
LOCATION:Old Bedians
END:VEVENT
BEGIN:VEVENT
DTSTART;TZID=Europe/Dublin:20260418T100000
DTEND;TZID=Europe/Dublin:20260418T120000
DTSTAMP:20260419T145049
CREATED:20260223T214416Z
LAST-MODIFIED:20260223T214416Z
UID:786-1776506400-1776513600@oisinclgmanchester.com
SUMMARY:U11 Blitz (Manchester)
DESCRIPTION:
URL:https://oisinclgmanchester.com/event/u11-blitz-manchester/
LOCATION:Old Bedians
END:VEVENT
BEGIN:VEVENT
DTSTART;TZID=Europe/Dublin:20260425T100000
DTEND;TZID=Europe/Dublin:20260425T120000
DTSTAMP:20260419T145049
CREATED:20260223T214540Z
LAST-MODIFIED:20260223T214540Z
UID:788-1777111200-1777118400@oisinclgmanchester.com
SUMMARY:U7 & U9 Blitz (Manchester)
DESCRIPTION:
URL:https://oisinclgmanchester.com/event/u7-u9-blitz-manchester/
LOCATION:Sedgley Park
END:VEVENT
BEGIN:VEVENT
DTSTART;TZID=Europe/Dublin:20260425T120000
DTEND;TZID=Europe/Dublin:20260425T150000
DTSTAMP:20260419T145049
CREATED:20260330T154532Z
LAST-MODIFIED:20260330T154929Z
UID:920-1777118400-1777129200@oisinclgmanchester.com
SUMMARY:LGFA Intercounty 9s
DESCRIPTION:
URL:https://oisinclgmanchester.com/event/lgfa-intercounty-9s/
LOCATION:Leicester\, 450 Gipsy Ln\,\, Leicester\, LE5 0TB
END:VEVENT
BEGIN:VEVENT
DTSTART;TZID=Europe/Dublin:20260509T100000
DTEND;TZID=Europe/Dublin:20260509T120000
DTSTAMP:20260419T145049
CREATED:20260223T214724Z
LAST-MODIFIED:20260223T214724Z
UID:791-1778320800-1778328000@oisinclgmanchester.com
SUMMARY:U9 Blitz (Liverpool)
DESCRIPTION:
URL:https://oisinclgmanchester.com/event/u9-blitz-liverpool/
LOCATION:Greenbank
END:VEVENT
BEGIN:VEVENT
DTSTART;TZID=Europe/Dublin:20260516T100000
DTEND;TZID=Europe/Dublin:20260516T120000
DTSTAMP:20260419T145049
CREATED:20260223T214824Z
LAST-MODIFIED:20260223T214824Z
UID:793-1778925600-1778932800@oisinclgmanchester.com
SUMMARY:U11 Blitz (Manchester)
DESCRIPTION:
URL:https://oisinclgmanchester.com/event/u11-blitz-manchester-2/
LOCATION:TMV
END:VEVENT
BEGIN:VEVENT
DTSTART;TZID=Europe/Dublin:20260516T100000
DTEND;TZID=Europe/Dublin:20260516T120000
DTSTAMP:20260419T145049
CREATED:20260223T214944Z
LAST-MODIFIED:20260223T214944Z
UID:796-1778925600-1778932800@oisinclgmanchester.com
SUMMARY:U7 Blitz (Liverpool)
DESCRIPTION:
URL:https://oisinclgmanchester.com/event/u7-blitz-liverpool/
LOCATION:Wavertree
END:VEVENT
BEGIN:VEVENT
DTSTART;TZID=Europe/Dublin:20260523T120000
DTEND;TZID=Europe/Dublin:20260523T140000
DTSTAMP:20260419T145049
CREATED:20260330T153736Z
LAST-MODIFIED:20260330T153736Z
UID:916-1779537600-1779544800@oisinclgmanchester.com
SUMMARY:LGFA Pennine League R2
DESCRIPTION:
URL:https://oisinclgmanchester.com/event/lgfa-pennine-league-r2/
LOCATION:Old Bedians
END:VEVENT
BEGIN:VEVENT
DTSTART;TZID=Europe/Dublin:20260530T143000
DTEND;TZID=Europe/Dublin:20260530T153000
DTSTAMP:20260419T145049
CREATED:20260223T215047Z
LAST-MODIFIED:20260223T215047Z
UID:799-1780151400-1780155000@oisinclgmanchester.com
SUMMARY:U13 v St Peters
DESCRIPTION:
URL:https://oisinclgmanchester.com/event/u13-v-st-peters/
LOCATION:Old Bedians
END:VEVENT
BEGIN:VEVENT
DTSTART;TZID=Europe/Dublin:20260606T143000
DTEND;TZID=Europe/Dublin:20260606T153000
DTSTAMP:20260419T145049
CREATED:20260223T215259Z
LAST-MODIFIED:20260224T180616Z
UID:801-1780756200-1780759800@oisinclgmanchester.com
SUMMARY:U13 v St Brendans
DESCRIPTION:
URL:https://oisinclgmanchester.com/event/u13-v-st-brendans/
LOCATION:TMV
END:VEVENT
BEGIN:VEVENT
DTSTART;TZID=Europe/Dublin:20260613T100000
DTEND;TZID=Europe/Dublin:20260613T160000
DTSTAMP:20260419T145049
CREATED:20260223T215408Z
LAST-MODIFIED:20260224T120921Z
UID:803-1781344800-1781366400@oisinclgmanchester.com
SUMMARY:Northern Games 2026 (Manchester)
DESCRIPTION:
URL:https://oisinclgmanchester.com/event/northern-games-2026/
LOCATION:Broughton Park
END:VEVENT
BEGIN:VEVENT
DTSTART;TZID=Europe/Dublin:20260620T100000
DTEND;TZID=Europe/Dublin:20260620T120000
DTSTAMP:20260419T145049
CREATED:20260223T215521Z
LAST-MODIFIED:20260223T215521Z
UID:806-1781949600-1781956800@oisinclgmanchester.com
SUMMARY:U7 & U9 Blitz (Liverpool)
DESCRIPTION:
URL:https://oisinclgmanchester.com/event/u7-u9-blitz-liverpool/
LOCATION:Greenbank
END:VEVENT
BEGIN:VEVENT
DTSTART;TZID=Europe/Dublin:20260620T143000
DTEND;TZID=Europe/Dublin:20260620T170000
DTSTAMP:20260419T145049
CREATED:20260223T215625Z
LAST-MODIFIED:20260223T215625Z
UID:808-1781965800-1781974800@oisinclgmanchester.com
SUMMARY:U13 League Finals (Manchester)
DESCRIPTION:
URL:https://oisinclgmanchester.com/event/u13-league-finals-manchester/
LOCATION:Old Bedians
END:VEVENT
BEGIN:VEVENT
DTSTART;TZID=Europe/Dublin:20260627T100000
DTEND;TZID=Europe/Dublin:20260627T120000
DTSTAMP:20260419T145049
CREATED:20260223T215737Z
LAST-MODIFIED:20260223T215737Z
UID:810-1782554400-1782561600@oisinclgmanchester.com
SUMMARY:U11 Blitz (Manchester)
DESCRIPTION:
URL:https://oisinclgmanchester.com/event/u11-blitz-manchester-3/
LOCATION:TMV
END:VEVENT
BEGIN:VEVENT
DTSTART;TZID=Europe/Dublin:20260704T080000
DTEND;TZID=Europe/Dublin:20260704T170000
DTSTAMP:20260419T145049
CREATED:20260223T215829Z
LAST-MODIFIED:20260224T121145Z
UID:812-1783152000-1783184400@oisinclgmanchester.com
SUMMARY:ABC 2026 (London)
DESCRIPTION:
URL:https://oisinclgmanchester.com/event/abc-2026-london/
LOCATION:Hazelwood Centre
END:VEVENT
BEGIN:VEVENT
DTSTART;TZID=Europe/Dublin:20260801T100000
DTEND;TZID=Europe/Dublin:20260801T120000
DTSTAMP:20260419T145049
CREATED:20260224T180833Z
LAST-MODIFIED:20260224T180833Z
UID:845-1785578400-1785585600@oisinclgmanchester.com
SUMMARY:U7 & U9 Blitz (Warrington)
DESCRIPTION:
URL:https://oisinclgmanchester.com/event/u7-u9-blitz-warrington/
LOCATION:Warrington
END:VEVENT
BEGIN:VEVENT
DTSTART;TZID=Europe/Dublin:20260808T100000
DTEND;TZID=Europe/Dublin:20260808T120000
DTSTAMP:20260419T145049
CREATED:20260224T180935Z
LAST-MODIFIED:20260224T180935Z
UID:848-1786183200-1786190400@oisinclgmanchester.com
SUMMARY:U11 Blitz (Manchester)
DESCRIPTION:
URL:https://oisinclgmanchester.com/event/u11-blitz-manchester-4/
LOCATION:Old Bedians
END:VEVENT
END:VCALENDAR