BEGIN:VCALENDAR
VERSION:2.0
PRODID:-//OISíN GAA Manchester - ECPv6.15.20//NONSGML v1.0//EN
CALSCALE:GREGORIAN
METHOD:PUBLISH
X-ORIGINAL-URL:https://oisinclgmanchester.com
X-WR-CALDESC:Events for OISíN GAA Manchester
REFRESH-INTERVAL;VALUE=DURATION:PT1H
X-Robots-Tag:noindex
X-PUBLISHED-TTL:PT1H
BEGIN:VTIMEZONE
TZID:Europe/Dublin
BEGIN:STANDARD
TZOFFSETFROM:+0000
TZOFFSETTO:+0100
TZNAME:IST
DTSTART:20250330T010000
END:STANDARD
BEGIN:DAYLIGHT
TZOFFSETFROM:+0100
TZOFFSETTO:+0000
TZNAME:GMT
DTSTART:20251026T010000
END:DAYLIGHT
BEGIN:STANDARD
TZOFFSETFROM:+0000
TZOFFSETTO:+0100
TZNAME:IST
DTSTART:20260329T010000
END:STANDARD
BEGIN:DAYLIGHT
TZOFFSETFROM:+0100
TZOFFSETTO:+0000
TZNAME:GMT
DTSTART:20261025T010000
END:DAYLIGHT
BEGIN:STANDARD
TZOFFSETFROM:+0000
TZOFFSETTO:+0100
TZNAME:IST
DTSTART:20270328T010000
END:STANDARD
BEGIN:DAYLIGHT
TZOFFSETFROM:+0100
TZOFFSETTO:+0000
TZNAME:GMT
DTSTART:20271031T010000
END:DAYLIGHT
END:VTIMEZONE
BEGIN:VEVENT
DTSTART;TZID=Europe/Dublin:20260206T193000
DTEND;TZID=Europe/Dublin:20260206T230000
DTSTAMP:20260419T144958
CREATED:20260124T143221Z
LAST-MODIFIED:20260124T151140Z
UID:445-1770406200-1770418800@oisinclgmanchester.com
SUMMARY:Poker Night
DESCRIPTION:
URL:https://oisinclgmanchester.com/event/poker-night-old-bedians/
LOCATION:Old Bedians
END:VEVENT
BEGIN:VEVENT
DTSTART;TZID=Europe/Dublin:20260207T100000
DTEND;TZID=Europe/Dublin:20260207T113000
DTSTAMP:20260419T144958
CREATED:20260125T191924Z
LAST-MODIFIED:20260125T192410Z
UID:581-1770458400-1770463800@oisinclgmanchester.com
SUMMARY:Ladies Welcome Session
DESCRIPTION:
URL:https://oisinclgmanchester.com/event/ladies-welcome-session-4/
LOCATION:Old Bedians
END:VEVENT
BEGIN:VEVENT
DTSTART;TZID=Europe/Dublin:20260209T200000
DTEND;TZID=Europe/Dublin:20260209T213000
DTSTAMP:20260419T144958
CREATED:20260127T105941Z
LAST-MODIFIED:20260129T192256Z
UID:613-1770667200-1770672600@oisinclgmanchester.com
SUMMARY:Monthly Club Meeting
DESCRIPTION:
URL:https://oisinclgmanchester.com/event/monthly-club-meeting/
LOCATION:Old Bedians
END:VEVENT
BEGIN:VEVENT
DTSTART;TZID=Europe/Dublin:20260221T140000
DTEND;TZID=Europe/Dublin:20260221T160000
DTSTAMP:20260419T144958
CREATED:20260127T105803Z
LAST-MODIFIED:20260219T145219Z
UID:608-1771682400-1771689600@oisinclgmanchester.com
SUMMARY:IRL ENG 6 Nations Social
DESCRIPTION:
URL:https://oisinclgmanchester.com/event/irl-eng-6-nations-social/
LOCATION:Kennedys\, Didsbury
END:VEVENT
BEGIN:VEVENT
DTSTART;TZID=Europe/Dublin:20260228T090000
DTEND;TZID=Europe/Dublin:20260228T130000
DTSTAMP:20260419T144958
CREATED:20260224T181043Z
LAST-MODIFIED:20260225T120231Z
UID:850-1772269200-1772283600@oisinclgmanchester.com
SUMMARY:Lancashire Coaching Course
DESCRIPTION:
URL:https://oisinclgmanchester.com/event/lancashire-coaching-course/
LOCATION:Old Bedians
END:VEVENT
END:VCALENDAR